BEGIN:VCALENDAR
VERSION:2.0
PRODID:-//Harbor Regional Center - ECPv6.15.16//NONSGML v1.0//EN
CALSCALE:GREGORIAN
METHOD:PUBLISH
X-WR-CALNAME:Harbor Regional Center
X-ORIGINAL-URL:https://www.harborrc.org
X-WR-CALDESC:Events for Harbor Regional Center
REFRESH-INTERVAL;VALUE=DURATION:PT1H
X-Robots-Tag:noindex
X-PUBLISHED-TTL:PT1H
BEGIN:VTIMEZONE
TZID:America/Los_Angeles
BEGIN:DAYLIGHT
TZOFFSETFROM:-0800
TZOFFSETTO:-0700
TZNAME:PDT
DTSTART:20250309T100000
END:DAYLIGHT
BEGIN:STANDARD
TZOFFSETFROM:-0700
TZOFFSETTO:-0800
TZNAME:PST
DTSTART:20251102T090000
END:STANDARD
BEGIN:DAYLIGHT
TZOFFSETFROM:-0800
TZOFFSETTO:-0700
TZNAME:PDT
DTSTART:20260308T100000
END:DAYLIGHT
BEGIN:STANDARD
TZOFFSETFROM:-0700
TZOFFSETTO:-0800
TZNAME:PST
DTSTART:20261101T090000
END:STANDARD
BEGIN:DAYLIGHT
TZOFFSETFROM:-0800
TZOFFSETTO:-0700
TZNAME:PDT
DTSTART:20270314T100000
END:DAYLIGHT
BEGIN:STANDARD
TZOFFSETFROM:-0700
TZOFFSETTO:-0800
TZNAME:PST
DTSTART:20271107T090000
END:STANDARD
END:VTIMEZONE
BEGIN:VEVENT
DTSTART;TZID=America/Los_Angeles:20260420T090000
DTEND;TZID=America/Los_Angeles:20260420T120000
DTSTAMP:20260420T064048
CREATED:20250124T212351Z
LAST-MODIFIED:20260109T195019Z
UID:10003209-1776675600-1776686400@www.harborrc.org
SUMMARY:Parent Mentor Drop-In Clinics
DESCRIPTION:Have a Question? Need Assistance? \nHarbor Regional Center (Harbor) Parent Mentors will be available in your community to assist individuals with intellectual/developmental disabilities and family members with applications to various programs\, answer questions about the regional center or generic services (a service that is provided by a community organization/program\, such as In Home Supportive Services or Medi-Cal and CalFresh)\, help identify resources\, and much more!
URL:https://www.harborrc.org/events_detail/parent-mentor-drop-in-clinics-2/2026-04-20/
LOCATION:New Harvest Church\, 11364 Imperial Hwy.\, Norwalk\, CA\, 90650\, United States
CATEGORIES:All Ages,Parents/Caregivers
END:VEVENT
END:VCALENDAR