BEGIN:VCALENDAR
VERSION:2.0
PRODID:-//Harbor Regional Center - ECPv6.15.16//NONSGML v1.0//EN
CALSCALE:GREGORIAN
METHOD:PUBLISH
X-WR-CALNAME:Harbor Regional Center
X-ORIGINAL-URL:https://www.harborrc.org
X-WR-CALDESC:Events for Harbor Regional Center
REFRESH-INTERVAL;VALUE=DURATION:PT1H
X-Robots-Tag:noindex
X-PUBLISHED-TTL:PT1H
BEGIN:VTIMEZONE
TZID:America/Los_Angeles
BEGIN:DAYLIGHT
TZOFFSETFROM:-0800
TZOFFSETTO:-0700
TZNAME:PDT
DTSTART:20250309T100000
END:DAYLIGHT
BEGIN:STANDARD
TZOFFSETFROM:-0700
TZOFFSETTO:-0800
TZNAME:PST
DTSTART:20251102T090000
END:STANDARD
BEGIN:DAYLIGHT
TZOFFSETFROM:-0800
TZOFFSETTO:-0700
TZNAME:PDT
DTSTART:20260308T100000
END:DAYLIGHT
BEGIN:STANDARD
TZOFFSETFROM:-0700
TZOFFSETTO:-0800
TZNAME:PST
DTSTART:20261101T090000
END:STANDARD
BEGIN:DAYLIGHT
TZOFFSETFROM:-0800
TZOFFSETTO:-0700
TZNAME:PDT
DTSTART:20270314T100000
END:DAYLIGHT
BEGIN:STANDARD
TZOFFSETFROM:-0700
TZOFFSETTO:-0800
TZNAME:PST
DTSTART:20271107T090000
END:STANDARD
END:VTIMEZONE
BEGIN:VEVENT
DTSTART;TZID=America/Los_Angeles:20260422T140000
DTEND;TZID=America/Los_Angeles:20260422T160000
DTSTAMP:20260422T025156
CREATED:20251229T182623Z
LAST-MODIFIED:20260225T004051Z
UID:10003178-1776866400-1776873600@www.harborrc.org
SUMMARY:Learning About Benefits: In-Home Supportive Services (IHSS) Overview
DESCRIPTION:Presented by Harbor’s Benefits Specialist  \nThis workshop will focus on an important in-home support available through the Medi-Cal program and run by Los Angeles County for individuals served. Learn about IHSS eligibility\, how support hours are determined\, how to prepare for an appointment with your IHSS worker\, who may become a certified IHSS provider\, and what to do if you do not agree with an IHSS decision.
URL:https://www.harborrc.org/events_detail/learning-about-benefits-in-home-supportive-services-ihss-overview-2/
CATEGORIES:All Ages
END:VEVENT
BEGIN:VEVENT
DTSTART;TZID=America/Los_Angeles:20260422T180000
DTEND;TZID=America/Los_Angeles:20260422T190000
DTSTAMP:20260422T025156
CREATED:20251208T215904Z
LAST-MODIFIED:20251208T215904Z
UID:10003117-1776880800-1776884400@www.harborrc.org
SUMMARY:New Family Orientation: For Ages 3 Years And Older
DESCRIPTION:This orientation is for families new to Harbor and the regional center system. Learn how our staff can support you in navigating the system and discover the various services and supports available to help you and your family.
URL:https://www.harborrc.org/events_detail/new-family-orientation-for-ages-3-years-and-older/2026-04-22/
CATEGORIES:Adults,Children,Parents/Caregivers,Youth
END:VEVENT
END:VCALENDAR