Workbook
Name AAA: 'FMS Employee Burden'!$G$9:$G$10
Name Accura: 'FMS Employee Burden'!$H$9:$H$11
Name ACE: 'FMS Employee Burden'!$I$9:$I$11
Name Action: 'FMS Employee Burden'!$J$9:$J$11
Name Arch: 'FMS Employee Burden'!$K$9:$K$11
Name Aveanna: 'FMS Employee Burden'!$L$9:$L$10
Name Balance: 'FMS Employee Burden'!$M$9:$M$11
Name Cambrian: 'FMS Employee Burden'!$N$9:$N$11
Name Community_Interface: 'FMS Employee Burden'!$Y$9
Name CommunityInterface: 'FMS Employee Burden'!$Y$9:$Y$10
Name Dromen: 'FMS Employee Burden'!$O$9:$O$11
Name Fact_Family: 'FMS Employee Burden'!$P$9:$P$11
Name Frequency: #REF!
Name GT: 'FMS Employee Burden'!$Q$9:$Q$11
Name HR_Alliance: 'FMS Employee Burden'!$R$9:$R$11
Name Lookup_Table: #REF!
Name Mainsl: 'FMS Employee Burden'!$S$9:$S$11
Name no: 'FMS Employee Burden'!$Y$9:$Y$11
Name PPL: 'FMS Employee Burden'!$T$9:$T$10
Name Quantity: #REF!
Name Ridgeline: 'FMS Employee Burden'!$V$9:$V$11
Name Ritz: 'FMS Employee Burden'!$U$9:$U$11
Name Senteniel: 'FMS Employee Burden'!$W$9:$W$11
Name Senteniel_Four: 'FMS Employee Burden'!$W$9:$W$11
Name Sequoia: 'FMS Employee Burden'!$X$9:$X$11
Name Service_Code: #REF!

Sheet SDP Spending Plan
A1: Self-Determination Program Spending Plan (Page 1)
A2: Name: ---> | C2: UCI: ---> | E2: Service Coordinator: | I2: Todays' Date: ---> | L2: Modification #: | O2: SDP Year: --->
A3: Certified Budget: ---> | C3: SDP Date Range: --->
A5: FMS (Select below) | B5: FMS Model (Select below) | C5: Employer Burden | D5: Language (Select) | E5: # of Employees/Providers | H5: FMS Rate/Month
L6: =IF(COUNTBLANK(A10:A28)>0,"",_xlfn.LET(_xlpm.x,COUNTA(A10:A28),IF(_xlpm.x<=4,"0 to 4",IF(_xlpm.x<=10,"5 to 10","11+"))))
E8: Frequency | H8: Cost
A9: Service | Support | Activity | Item | B9: Provider Name(s) | C9: Employee Burden (Yes/No) Required | D9: Service Code | E9: # of (units) | F9: Per (frequency) | G9: Annual Units | H9: Cost or Rate ($) | I9: Employer Burden | J9: Adjusted Cost Per Unit | K9: Additional Costs or Adjustments | L9: Total | M9: Goal # | N9: Notes
J10: =IF(C10="Yes",H10+(H10*I10),IF(C10="No",H10,"")) | L10: =IF(C10="","",G10*J10+K10)
J11: =IF(C11="Yes",H11+(H11*I11),IF(C11="No",H11,"")) | L11: =IF(C11="","",G11*J11+K11)
J12: =IF(C12="Yes",H12+(H12*I12),IF(C12="No",H12,"")) | L12: =IF(C12="","",G12*J12+K12)
J13: =IF(C13="Yes",H13+(H13*I13),IF(C13="No",H13,"")) | L13: =IF(C13="","",G13*J13+K13)
J14: =IF(C14="Yes",H14+(H14*I14),IF(C14="No",H14,"")) | L14: =IF(C14="","",G14*J14+K14)
L15: =IF(C15="","",G15*J15+K15)
J16: =IF(C16="Yes",H16+(H16*I16),IF(C16="No",H16,"")) | L16: =IF(C16="","",G16*J16+K16)
J17: =IF(C17="Yes",H17+(H17*I17),IF(C17="No",H17,"")) | L17: =IF(C17="","",G17*J17+K17)
J18: =IF(C18="Yes",H18+(H18*I18),IF(C18="No",H18,"")) | L18: =IF(C18="","",G18*J18+K18)
J19: =IF(C19="Yes",H19+(H19*I19),IF(C19="No",H19,"")) | L19: =IF(C19="","",G19*J19+K19)
J20: =IF(C20="Yes",H20+(H20*I20),IF(C20="No",H20,"")) | L20: =IF(C20="","",G20*J20+K20)
J21: =IF(C21="Yes",H21+(H21*I21),IF(C21="No",H21,"")) | L21: =IF(C21="","",G21*J21+K21)
J22: =IF(C22="Yes",H22+(H22*I22),IF(C22="No",H22,"")) | L22: =IF(C22="","",G22*J22+K22)
J23: =IF(C23="Yes",H23+(H23*I23),IF(C23="No",H23,"")) | L23: =IF(C23="","",G23*J23+K23)
J24: =IF(C24="Yes",H24+(H24*I24),IF(C24="No",H24,"")) | L24: =IF(C24="","",G24*J24+K24)
J25: =IF(C25="Yes",H25+(H25*I25),IF(C25="No",H25,"")) | L25: =IF(C25="","",G25*J25+K25)
J26: =IF(C26="Yes",H26+(H26*I26),IF(C26="No",H26,"")) | L26: =IF(C26="","",G26*J26+K26)
J27: =IF(C27="Yes",H27+(H27*I27),IF(C27="No",H27,"")) | L27: =IF(C27="","",G27*J27+K27)
J28: =IF(C28="Yes",H28+(H28*I28),IF(C28="No",H28,"")) | L28: =IF(C28="","",G28*J28+K28)
J29: Sum of Page 1 and 3 | L29: =SUM(L10:L28)+SUM(L123:L141) -> 0
N30: Budget Totals (Page 1 and 3 Totals)
A31: Generic Resources Pursuant to WIC Section 4685.8 (d)(3)(B): The participant shall utilize the services and supports available within the Self-Determination Program only when generic services and supports are not available. | N31: Total Certified Budget | P31: =B3 -> 0
N32: Spending Plan Total | P32: =L29 -> 0
N33: Difference | P33: =P31-P32 -> 0
A34: Budget Management Pursuant to WIC Section 4685.8 (d)(3)(D): The participant shall manage Self-Determination Program Services and supports within the participant's individual budget. | H34: Individual Signature | K34: Date
A37: Informed Choice of Providers (HCBS Waiver): Participants are informed about the types of services available in the self-determination program (SDP) and strategies for selecting providers during the required SDP orientation and through available trainings. Additionally, through the person-centered planning process, the case manager informs the participant and/or their legal representative about available services that meet the participant's needs. Participants may meet with service providers before selecting services to be incorporated into the IPP. The participant's choice of providers includes consideration of, among other things, the provider's ability to achieve the objectives set forth in the participant's IPP.
H38: Service Coordinator | K38: Date
H42: Participant Choice Specialist | K42: Date
A46: Acknowledgement: I understand that Regional Center approval of a provider, service, support, or expenditure, does not constitute approval by the Financial Management Services (FMS) provider. The FMS provider is responsible for conducting its own review to ensure that all providers, services, supports, expenditures, employment arrangements, and related documentation comply with applicable federal and state laws, regulations, SDP requirements, payroll requirements, tax requirements, and FMS policies and procedures. | H46: Client Services Manager | K46: Date
A54: Self-Determination Program Spending Plan: IPP Goals (Page 2)
A55: Name: ---> | B55: =IF(B2="","",B2) | C55: UCI: ---> | D55: =IF(D2="","",D2) | E55: Service Coordinator: | G55: =IF(G2="","",G2) | I55: Todays' Date: ---> | K55: =IF(K2="","",K2) | L55: Modification # | M55: =IF(M2="","",M2) | O55: SDP Year: ---> | P55: =IF(P2="","",P2)
A56: Certified Budget: ---> | B56: =IF(B3="","",B3) | C56: SDP Date Range: ---> | D56: =IF(D3="","",D3)
A59: IPP Goal # | B59: Goal Description
...

Sheet Service Code Totals
A1: Spending Plan Totals
A3: Name: ---> | B3: =IF('SDP Spending Plan'!B2="","",'SDP Spending Plan'!B2) | C3: UCI: ---> | D3: =IF('SDP Spending Plan'!D2="","",'SDP Spending Plan'!D2) | E3: Service Coordinator: | G3: =IF('SDP Spending Plan'!G2="","",'SDP Spending Plan'!G2) | I3: Todays' Date: ---> | K3: =IF('SDP Spending Plan'!K2="","",'SDP Spending Plan'!K2) | L3: Modification: | M3: =IF('SDP Spending Plan'!M2="","",'SDP Spending Plan'!M2) | N3: SDP Year: ---> | O3: =IF('SDP Spending Plan'!P2="","",'SDP Spending Plan'!P2)
A4: Certified Budget: ---> | B4: =IF('SDP Spending Plan'!B3="","",'SDP Spending Plan'!B3) | C4: SDP Date Range: ---> | D4: =IF('SDP Spending Plan'!D3="","",'SDP Spending Plan'!D3)
A6: Service Code | B6: Total | D6: Service Code | E6: Total
A7: 310 - Respite (Individual and Agency) In -home | B7: =SUMIF('SDP Spending Plan'!$D$10:$D$28,A7,'SDP Spending Plan'!$L$10:$L$28)+SUMIF('SDP Spending Plan'!$D$123:$D$141,A7,'SDP Spending Plan'!$L$123:$L$141) -> 0 | D7: 358 - Personal Emergency Response Systems | E7: =SUMIF('SDP Spending Plan'!$D$10:$D$28,D7,'SDP Spending Plan'!$L$10:$L$28)+SUMIF('SDP Spending Plan'!$D$123:$D$141,D7,'SDP Spending Plan'!$L$123:$L$141) -> 0
A8: 311 - Respite Facility - Out-of-Home | B8: =SUMIF('SDP Spending Plan'!$D$10:$D$28,A8,'SDP Spending Plan'!$L$10:$L$28)+SUMIF('SDP Spending Plan'!$D$123:$D$141,A8,'SDP Spending Plan'!$L$123:$L$141) -> 0 | D8: 359 - Home Health Aide | E8: =SUMIF('SDP Spending Plan'!$D$10:$D$28,D8,'SDP Spending Plan'!$L$10:$L$28)+SUMIF('SDP Spending Plan'!$D$123:$D$141,D8,'SDP Spending Plan'!$L$123:$L$141) -> 0
A9: 312 - Live-In Caregiver | B9: =SUMIF('SDP Spending Plan'!$D$10:$D$28,A9,'SDP Spending Plan'!$L$10:$L$28)+SUMIF('SDP Spending Plan'!$D$123:$D$141,A9,'SDP Spending Plan'!$L$123:$L$141) -> 0 | D9: 360 - Communication Support | E9: =SUMIF('SDP Spending Plan'!$D$10:$D$28,D9,'SDP Spending Plan'!$L$10:$L$28)+SUMIF('SDP Spending Plan'!$D$123:$D$141,D9,'SDP Spending Plan'!$L$123:$L$141) -> 0
A10: 313 - Homemaker | B10: =SUMIF('SDP Spending Plan'!$D$10:$D$28,A10,'SDP Spending Plan'!$L$10:$L$28)+SUMIF('SDP Spending Plan'!$D$123:$D$141,A10,'SDP Spending Plan'!$L$123:$L$141) -> 0 | D10: 361 - Skilled Nursing | E10: =SUMIF('SDP Spending Plan'!$D$10:$D$28,D10,'SDP Spending Plan'!$L$10:$L$28)+SUMIF('SDP Spending Plan'!$D$123:$D$141,D10,'SDP Spending Plan'!$L$123:$L$141) -> 0
A11: 314 - Housing Access Supports | B11: =SUMIF('SDP Spending Plan'!$D$10:$D$28,A11,'SDP Spending Plan'!$L$10:$L$28)+SUMIF('SDP Spending Plan'!$D$123:$D$141,A11,'SDP Spending Plan'!$L$123:$L$141) -> 0 | D11: 362 - Nutritional Consultation | E11: =SUMIF('SDP Spending Plan'!$D$10:$D$28,D11,'SDP Spending Plan'!$L$10:$L$28)+SUMIF('SDP Spending Plan'!$D$123:$D$141,D11,'SDP Spending Plan'!$L$123:$L$141) -> 0
A12: 315 - FMS Fiscal Agent | B12: =SUMIF('SDP Spending Plan'!$D$10:$D$28,A12,'SDP Spending Plan'!$L$10:$L$28)+SUMIF('SDP Spending Plan'!$D$123:$D$141,A12,'SDP Spending Plan'!$L$123:$L$141) -> 0 | D12: 363 - Crisis Intervention and Supports | E12: =SUMIF('SDP Spending Plan'!$D$10:$D$28,D12,'SDP Spending Plan'!$L$10:$L$28)+SUMIF('SDP Spending Plan'!$D$123:$D$141,D12,'SDP Spending Plan'!$L$123:$L$141) -> 0
A13: 316 - FMS Co-Employer | B13: =SUMIF('SDP Spending Plan'!$D$10:$D$28,A13,'SDP Spending Plan'!$L$10:$L$28)+SUMIF('SDP Spending Plan'!$D$123:$D$141,A13,'SDP Spending Plan'!$L$123:$L$141) -> 0 | D13: 364 - Behavioral Intervention Services | E13: =SUMIF('SDP Spending Plan'!$D$10:$D$28,D13,'SDP Spending Plan'!$L$10:$L$28)+SUMIF('SDP Spending Plan'!$D$123:$D$141,D13,'SDP Spending Plan'!$L$123:$L$141) -> 0
A14: 317 - FMS Fiscal/Employer Agent | B14: =SUMIF('SDP Spending Plan'!$D$10:$D$28,A14,'SDP Spending Plan'!$L$10:$L$28)+SUMIF('SDP Spending Plan'!$D$123:$D$141,A14,'SDP Spending Plan'!$L$123:$L$141) -> 0 | D14: 365 - Specialized Medical Equipment and Supplies | E14: =SUMIF('SDP Spending Plan'!$D$10:$D$28,D14,'SDP Spending Plan'!$L$10:$L$28)+SUMIF('SDP Spending Plan'!$D$123:$D$141,D14,'SDP Spending Plan'!$L$123:$L$141) -> 0
A15: 320 - Community Living Supports (Individual and Agency) | B15: =SUMIF('SDP Spending Plan'!$D$10:$D$28,A15,'SDP Spending Plan'!$L$10:$L$28)+SUMIF('SDP Spending Plan'!$D$123:$D$141,A15,'SDP Spending Plan'!$L$123:$L$141) -> 0 | D15: 366 - Family/Consumer Training | E15: =SUMIF('SDP Spending Plan'!$D$10:$D$28,D15,'SDP Spending Plan'!$L$10:$L$28)+SUMIF('SDP Spending Plan'!$D$123:$D$141,D15,'SDP Spending Plan'!$L$123:$L$141) -> 0
A16: 321 - Residential Facility | B16: =SUMIF('SDP Spending Plan'!$D$10:$D$28,A16,'SDP Spending Plan'!$L$10:$L$28)+SUMIF('SDP Spending Plan'!$D$123:$D$141,A16,'SDP Spending Plan'!$L$123:$L$141) -> 0 | D16: 367 - Dental Services | E16: =SUMIF('SDP Spending Plan'!$D$10:$D$28,D16,'SDP Spending Plan'!$L$10:$L$28)+SUMIF('SDP Spending Plan'!$D$123:$D$141,D16,'SDP Spending Plan'!$L$123:$L$141) -> 0
A17: 331 - Community Integration Supports | B17: =SUMIF('SDP Spending Plan'!$D$10:$D$28,A17,'SDP Spending Plan'!$L$10:$L$28)+SUMIF('SDP Spending Plan'!$D$123:$D$141,A17,'SDP Spending Plan'!$L$123:$L$141) -> 0 | D17: 368 - Lenses and Frames | E17: =SUMIF('SDP Spending Plan'!$D$10:$D$28,D17,'SDP Spending Plan'!$L$10:$L$28)+SUMIF('SDP Spending Plan'!$D$123:$D$141,D17,'SDP Spending Plan'!$L$123:$L$141) -> 0
A18: 333 - Participant-Directed Goods and Services | B18: =SUMIF('SDP Spending Plan'!$D$10:$D$28,A18,'SDP Spending Plan'!$L$10:$L$28)+SUMIF('SDP Spending Plan'!$D$123:$D$141,A18,'SDP Spending Plan'!$L$123:$L$141) -> 0 | D18: 369 - Optometric-Optician Services | E18: =SUMIF('SDP Spending Plan'!$D$10:$D$28,D18,'SDP Spending Plan'!$L$10:$L$28)+SUMIF('SDP Spending Plan'!$D$123:$D$141,D18,'SDP Spending Plan'!$L$123:$L$141) -> 0
... A27: 357 - Acupuncture Services | B27: =SUMIF('SDP Spending Plan'!$D$10:$D$28,A27,'SDP Spending Plan'!$L$10:$L$28)+SUMIF('SDP Spending Plan'!$D$123:$D$141,A27,'SDP Spending Plan'!$L$123:$L$141) -> 0 | D27: 378 - Child Day Care Facility | E27: =SUMIF('SDP Spending Plan'!$D$10:$D$28,D27,'SDP Spending Plan'!$L$10:$L$28)+SUMIF('SDP Spending Plan'!$D$123:$D$141,D27,'SDP Spending Plan'!$L$123:$L$141) -> 0
A29: Spending Plan Total | B29: =SUM(B7:B27)+SUM(E7:E27) -> 0

Sheet FMSRates
A2: Model | B2: Total Number | C2: Language | D2: Rate
A3: 315 | B3: 0 to 4 | C3: English | D3: 230
A4: 315 | B4: 5 to 10 | C4: English | D4: 450
A5: 315 | B5: 11+ | C5: English | D5: 690
A6: 315 | B6: 0 to 4 | C6: Other | D6: 255
A7: 315 | B7: 5 to 10 | C7: Other | D7: 495
A8: 315 | B8: 11+ | C8: Other | D8: 760
A10: 316 | B10: 0 to 4 | C10: English | D10: 380
A11: 316 | B11: 5 to 10 | C11: English | D11: 600
A12: 316 | B12: 11+ | C12: English | D12: 840
A13: 316 | B13: 0 to 4 | C13: Other | D13: 420
A14: 316 | B14: 5 to 10 | C14: Other | D14: 660
A15: 316 | B15: 11+ | C15: Other | D15: 925
... A22: 317 | B22: 11+ | C22: Other | D22: 925

Sheet FMS Employee Burden
A3: List of FMS | B3: 315 | C3: 316 | D3: 317
A4: AAA | B4: #N/A | C4: 0.2138 | D4: #N/A
A5: Accura | B5: #N/A | C5: 0.225 | D5: 0.161
A6: ACE | B6: #N/A | C6: 0.25 | D6: 0.1568
A7: Action | B7: #N/A | C7: 0.25 | D7: 0.17
A8: Arch | B8: #N/A | C8: 0.1986 | D8: 0.1427 | G8: AAA | H8: Accura | I8: ACE | J8: Action | K8: Arch | L8: Aveanna | M8: Balance | N8: Cambrian | O8: Dromen | P8: Fact_Family | Q8: GT | R8: HR_Alliance | S8: Mainsl | T8: PPL | U8: Ritz | V8: Ridgeline | W8: Senteniel_Four | X8: Sequoia | Y8: CommunityInterface
A9: Aveanna | B9: #N/A | C9: 0.1757 | D9: #N/A | G9: 315 | H9: 315 | I9: 315 - PW8673 | J9: 315 | K9: 315 | L9: 315 | M9: 315 - PW8854 | N9: 315 | O9: 315 | P9: 315 | Q9: 315 | R9: 315 | S9: 315 | T9: 315 | U9: 315 | V9: 315 | W9: 315 | X9: 315 | Y9: 315
A10: Cambrian | B10: #N/A | C10: 0.25 | D10: 0.25 | G10: 316 | H10: 316 | I10: 316 - PW8689 | J10: 316 | K10: 316 | L10: 316 | M10: 316 - PW8855 | N10: 316 | O10: 316 | P10: 316 | Q10: 316 | R10: 316 | S10: 316 | T10: 317 | U10: 316 | V10: 316 | W10: 316 | X10: 316
A11: Dromen | B11: #N/A | C11: 0.214 | D11: 0.1598 | H11: 317 | I11: 317 - PW8674 | J11: 317 | K11: 317 | M11: 317 - PW8856 | N11: 317 | O11: 317 | P11: 317 | Q11: 317 | R11: 317 | S11: 317 | U11: 317 | V11: 317 | W11: 317 | X11: 317
A12: Fact Family | B12: #N/A | C12: 0.2 | D12: 0.2
A13: GT | B13: #N/A | C13: 0.1945 | D13: 0.1671
A14: HR Alliance | B14: #N/A | C14: 0.2277 | D14: 0.163
A15: Mains'l | B15: #N/A | C15: #N/A | D15: 0.1723
A16: PPL | B16: #N/A | C16: #N/A | D16: 0.1787
A17: Ritz | B17: #N/A | C17: 0.1945 | D17: 0.1945
A18: Ridgeline | B18: #N/A | C18: 0.18 | D18: 0.15
A19: Senteniel Four | B19: #N/A | C19: 0.2094 | D19: 0.1487
A20: Sequioa | B20: #N/A | C20: #N/A | D20: 0.2064
A21: Community Interface | B21: #N/A | C21: #N/A | D21: #N/A
A26: FMS | B26: Model | C26: Employee Burden
A27: AAA | B27: 315 | C27: #N/A
A28: AAA | B28: 316 | C28: 0.2138
A29: Accura | B29: 315
A30: Accura | B30: 316 | C30: 0.225
A31: Accura | B31: 317 | C31: 0.161
A32: ACE | B32: 315 | C32: #N/A
A33: ACE | B33: 316 | C33: 0.25
A34: ACE | B34: 317 | C34: 0.1568
A35: Action | B35: 315 | C35: #N/A
A36: Action | B36: 316 | C36: 0.25
A37: Action | B37: 317 | C37: 0.17
A38: Arch | B38: 315 | C38: #N/A
A39: Arch | B39: 316 | C39: 0.1986
A40: Arch | B40: 317 | C40: 0.1427
A41: Aveanna | B41: 315 | C41: #N/A
A42: Aveanna | B42: 316 | C42: 0.1757
A43: Cambrian | B43: 315 | C43: #N/A
A44: Cambrian | B44: 316 | C44: 0.25
A45: Cambrian | B45: 317 | C45: 0.25
A46: Dromen | B46: 315 | C46: #N/A
...

Sheet Service Codes
A1: 310 - Respite (Individual and Agency) In -home
A2: 311 - Respite Facility - Out-of-Home
A3: 312 - Live-In Caregiver
A4: 313 - Homemaker
A5: 314 - Housing Access Supports
A6: 315 - FMS Fiscal Agent
A7: 316 - FMS Co-Employer
A8: 317 - FMS Fiscal/Employer Agent
A9: 320 - Community Living Supports (Individual and Agency)
A10: 321 - Residential Facility
A11: 331 - Community Integration Supports
A12: 333 - Participant-Directed Goods and Services
... A42: 378 - Child Day Care Facility
